BEGIN:VCALENDAR
VERSION:2.0
PRODID:-//Our Lady Of Apostles&#039; Catholic Church - ECPv6.10.1//NONSGML v1.0//EN
CALSCALE:GREGORIAN
METHOD:PUBLISH
X-ORIGINAL-URL:https://ourladyofapostles.org.ng
X-WR-CALDESC:Events for Our Lady Of Apostles&#039; Catholic Church
REFRESH-INTERVAL;VALUE=DURATION:PT1H
X-Robots-Tag:noindex
X-PUBLISHED-TTL:PT1H
BEGIN:VTIMEZONE
TZID:Africa/Lagos
BEGIN:STANDARD
TZOFFSETFROM:+0100
TZOFFSETTO:+0100
TZNAME:WAT
DTSTART:20250101T000000
END:STANDARD
END:VTIMEZONE
BEGIN:VEVENT
DTSTART;VALUE=DATE:20250608
DTEND;VALUE=DATE:20250609
DTSTAMP:20260422T002251
CREATED:20250531T170353Z
LAST-MODIFIED:20250531T171355Z
UID:313-1749340800-1749427199@ourladyofapostles.org.ng
SUMMARY:Pentecost Sunday
DESCRIPTION:Pentecost Sunday is a significant day in the Christian calendar\, celebrated on the seventh Sunday after Easter (50 days after Easter Sunday). It marks the coming of the Holy Spirit upon the apostles and other followers of Jesus Christ\, as described in Acts 2:1–4 in the Bible. \n✝️ What Happened on Pentecost?\nAfter Jesus’ resurrection and ascension into heaven\, His disciples were gathered in Jerusalem during the Jewish festival of Shavuot (Feast of Weeks). On that day:\n– A sound like a rushing wind filled the house.\n– Tongues of fire appeared and rested on each of them.\n– They were filled with the Holy Spirit and began to speak in other languages.\n– This miraculous event enabled them to preach the Gospel to people from many nations\, each hearing in their own language. \n🙏 Why Do Christians Celebrate Pentecost?\nBirth of the Church:\nPentecost is often called the “birthday of the Christian Church” because it marks the beginning of the apostles’ public ministry and the spread of the Christian message. \nFulfillment of Jesus’ Promise\nJesus promised His followers that He would send the Holy Spirit (John 14:26). Pentecost is the fulfillment of that promise. \nEmpowerment of Believers\nThe Holy Spirit empowered the apostles with courage\, wisdom\, and spiritual gifts to preach the Gospel and carry out God’s mission. \nUnity and Mission\nThe event symbolizes unity in diversity\, as people of different languages and cultures heard the same message. It also highlights the Church’s mission to share the Gospel with the world. \n🔥 Symbols of Pentecost\nRed: The liturgical color for Pentecost\, representing the fire of the Holy Spirit.\nWind and Fire: Represent the power and presence of the Holy Spirit.\nDove: Sometimes used to symbolize the Holy Spirit.
URL:https://ourladyofapostles.org.ng/event/pentecost-sunday/
CATEGORIES:Catholic Holy Days of Obligation
ATTACH;FMTTYPE=image/webp:https://ourladyofapostles.org.ng/wp-content/uploads/2025/05/pentecost_16x9.webp
END:VEVENT
END:VCALENDAR