BEGIN:VCALENDAR
VERSION:2.0
PRODID:-//Our Lady Of Apostles&#039; Catholic Church - ECPv6.10.1//NONSGML v1.0//EN
CALSCALE:GREGORIAN
METHOD:PUBLISH
X-WR-CALNAME:Our Lady Of Apostles&#039; Catholic Church
X-ORIGINAL-URL:https://ourladyofapostles.org.ng
X-WR-CALDESC:Events for Our Lady Of Apostles&#039; Catholic Church
REFRESH-INTERVAL;VALUE=DURATION:PT1H
X-Robots-Tag:noindex
X-PUBLISHED-TTL:PT1H
BEGIN:VTIMEZONE
TZID:Africa/Lagos
BEGIN:STANDARD
TZOFFSETFROM:+0100
TZOFFSETTO:+0100
TZNAME:WAT
DTSTART:20250101T000000
END:STANDARD
END:VTIMEZONE
BEGIN:VEVENT
DTSTART;VALUE=DATE:20250529
DTEND;VALUE=DATE:20250530
DTSTAMP:20260422T002102
CREATED:20250213T113906Z
LAST-MODIFIED:20250213T125728Z
UID:185-1748476800-1748563199@ourladyofapostles.org.ng
SUMMARY:Ascension of the Lord
DESCRIPTION:Gospel: Luke 24:46-53\nJesus said to his disciples: “Thus it is written that the Christ would suffer and rise from the dead on the third day and that repentance\, for the forgiveness of sins\, would be preached in his name to all the nations\, beginning from Jerusalem. You are witnesses of these things. And behold I am sending the promise of my Father upon you; but stay in the city until you are clothed with power from on high.” \nThen he led them out as far as Bethany\, raised his hands\, and blessed them. As he blessed them he parted from them and was taken up to heaven. They did him homage and then returned to Jerusalem with great joy\, and they were continually in the temple praising God. \nReflection\nTwo truths are striking as we celebrate the Ascension. Notice how the disciples are charged to carry on Jesus’ message. Essential to their mission is that they must wait for the outpouring of the Holy Spirit before they begin. What is also remarkable is their joy as they wait because after Jesus’ crucifixion they kept the doors locked “for fear of the Jews” (Jewish leaders). \nJesus reminds us of how necessary it is for us to pray before we begin any kind of good work. Our prayer can be full of confidence and joy because we have the gift of Jesus’ Holy Spirit as our source of energy.
URL:https://ourladyofapostles.org.ng/event/ascension-of-the-lord/
CATEGORIES:Catholic Holy Days of Obligation
ATTACH;FMTTYPE=image/jpeg:https://ourladyofapostles.org.ng/wp-content/uploads/2025/02/ascension-2.jpg
END:VEVENT
END:VCALENDAR