BEGIN:VCALENDAR
VERSION:2.0
PRODID:-//Our Lady Of Apostles&#039; Catholic Church - ECPv6.10.1//NONSGML v1.0//EN
CALSCALE:GREGORIAN
METHOD:PUBLISH
X-WR-CALNAME:Our Lady Of Apostles&#039; Catholic Church
X-ORIGINAL-URL:https://ourladyofapostles.org.ng
X-WR-CALDESC:Events for Our Lady Of Apostles&#039; Catholic Church
REFRESH-INTERVAL;VALUE=DURATION:PT1H
X-Robots-Tag:noindex
X-PUBLISHED-TTL:PT1H
BEGIN:VTIMEZONE
TZID:Africa/Lagos
BEGIN:STANDARD
TZOFFSETFROM:+0100
TZOFFSETTO:+0100
TZNAME:WAT
DTSTART:20250101T000000
END:STANDARD
END:VTIMEZONE
BEGIN:VEVENT
DTSTART;VALUE=DATE:20250420
DTEND;VALUE=DATE:20250421
DTSTAMP:20260422T032207
CREATED:20250213T113303Z
LAST-MODIFIED:20250213T123125Z
UID:182-1745107200-1745193599@ourladyofapostles.org.ng
SUMMARY:Resurrection of Jesus Christ
DESCRIPTION:The Resurrection of Jesus Christ is the foundation of the Christian faith. Without the resurrection\, the belief in God’s saving grace through Jesus is destroyed. When Jesus rose from the dead\, he confirmed his identity as the Son of God and his work of atonement\, redemption\, reconciliation\, and salvation. The Resurrection was a literal\, physical raising of Jesus’ body from the dead. \nJesus was arrested\, tried\, and found guilty of claiming to be a king. His body was hung on a cross between two thieves. After his death\, Jesus’ body was wrapped in linen cloth and placed in a tomb with a large stone rolled across the opening. On the third day\, an early Sunday morning\, Mary Magdalene and another Mary came to the tomb and found it empty. Sitting on the rolled-away stone was an angel of the Lord who told them not to be afraid because Jesus had risen. As the women left to tell the disciples\, Jesus Christ met them and showed them his nail-pierced hands. \nThe Old and the New Testaments speak of the truth of Jesus being raised from death – Jesus testified of his resurrection before He died on the cross\, and his disciples witnessed his body after the resurrection. Below are the Bible verses and Scriptures that both prophesize the resurrection of Jesus and testify of the reality of the resurrected body of Christ.
URL:https://ourladyofapostles.org.ng/event/resurrection-of-jesus-christ/
CATEGORIES:Catholic Holy Days of Obligation
ATTACH;FMTTYPE=image/jpeg:https://ourladyofapostles.org.ng/wp-content/uploads/2025/02/ressurect.jpg
END:VEVENT
END:VCALENDAR